BEGIN:VCALENDAR
VERSION:2.0
PRODID:-//Long Beach Moms - ECPv6.15.20//NONSGML v1.0//EN
CALSCALE:GREGORIAN
METHOD:PUBLISH
X-WR-CALNAME:Long Beach Moms
X-ORIGINAL-URL:https://lbmoms.com
X-WR-CALDESC:Events for Long Beach Moms
REFRESH-INTERVAL;VALUE=DURATION:PT1H
X-Robots-Tag:noindex
X-PUBLISHED-TTL:PT1H
BEGIN:VTIMEZONE
TZID:America/Los_Angeles
BEGIN:DAYLIGHT
TZOFFSETFROM:-0800
TZOFFSETTO:-0700
TZNAME:PDT
DTSTART:20240310T100000
END:DAYLIGHT
BEGIN:STANDARD
TZOFFSETFROM:-0700
TZOFFSETTO:-0800
TZNAME:PST
DTSTART:20241103T090000
END:STANDARD
BEGIN:DAYLIGHT
TZOFFSETFROM:-0800
TZOFFSETTO:-0700
TZNAME:PDT
DTSTART:20250309T100000
END:DAYLIGHT
BEGIN:STANDARD
TZOFFSETFROM:-0700
TZOFFSETTO:-0800
TZNAME:PST
DTSTART:20251102T090000
END:STANDARD
BEGIN:DAYLIGHT
TZOFFSETFROM:-0800
TZOFFSETTO:-0700
TZNAME:PDT
DTSTART:20260308T100000
END:DAYLIGHT
BEGIN:STANDARD
TZOFFSETFROM:-0700
TZOFFSETTO:-0800
TZNAME:PST
DTSTART:20261101T090000
END:STANDARD
END:VTIMEZONE
BEGIN:VEVENT
DTSTART;TZID=America/Los_Angeles:20251115T080000
DTEND;TZID=America/Los_Angeles:20251115T120000
DTSTAMP:20260420T201219
CREATED:20251106T220436Z
LAST-MODIFIED:20251106T224018Z
UID:18508-1763193600-1763208000@lbmoms.com
SUMMARY:March of Dimes Healthy Moms\, Strong Babies Community Forum
DESCRIPTION:
URL:https://lbmoms.com/event/march-of-dimes-healthy-moms-strong-babies-community-forum/
LOCATION:100 Civic Center Dr.\, 100 Civic Center Dr.\, Newport Beach\, CA\, 92660
CATEGORIES:Events
ATTACH;FMTTYPE=image/png:https://lbmoms.com/wp-content/uploads/2025/11/2024-HW-GUIDE-480-x-600-px-2.png
END:VEVENT
END:VCALENDAR