BEGIN:VCALENDAR
VERSION:2.0
PRODID:-//Long Beach Moms - ECPv6.15.20//NONSGML v1.0//EN
CALSCALE:GREGORIAN
METHOD:PUBLISH
X-ORIGINAL-URL:https://lbmoms.com
X-WR-CALDESC:Events for Long Beach Moms
REFRESH-INTERVAL;VALUE=DURATION:PT1H
X-Robots-Tag:noindex
X-PUBLISHED-TTL:PT1H
BEGIN:VTIMEZONE
TZID:America/Los_Angeles
BEGIN:DAYLIGHT
TZOFFSETFROM:-0800
TZOFFSETTO:-0700
TZNAME:PDT
DTSTART:20240310T100000
END:DAYLIGHT
BEGIN:STANDARD
TZOFFSETFROM:-0700
TZOFFSETTO:-0800
TZNAME:PST
DTSTART:20241103T090000
END:STANDARD
BEGIN:DAYLIGHT
TZOFFSETFROM:-0800
TZOFFSETTO:-0700
TZNAME:PDT
DTSTART:20250309T100000
END:DAYLIGHT
BEGIN:STANDARD
TZOFFSETFROM:-0700
TZOFFSETTO:-0800
TZNAME:PST
DTSTART:20251102T090000
END:STANDARD
BEGIN:DAYLIGHT
TZOFFSETFROM:-0800
TZOFFSETTO:-0700
TZNAME:PDT
DTSTART:20260308T100000
END:DAYLIGHT
BEGIN:STANDARD
TZOFFSETFROM:-0700
TZOFFSETTO:-0800
TZNAME:PST
DTSTART:20261101T090000
END:STANDARD
END:VTIMEZONE
BEGIN:VEVENT
DTSTART;TZID=America/Los_Angeles:20250608T100000
DTEND;TZID=America/Los_Angeles:20250608T140000
DTSTAMP:20260421T154857
CREATED:20250515T190119Z
LAST-MODIFIED:20250515T212406Z
UID:16495-1749376800-1749391200@lbmoms.com
SUMMARY:March for Babies
DESCRIPTION:The US is the most dangerous high-income nation for childbirth. It’s unacceptable. But together with your help\, we can tackle America’s maternal and infant health crisis\, one person\, one community\, and one step at a time. \nThe funds we raise for March of Dimes with March for Babies support research\, education\, advocacy\, and programs and services so moms and babies get the best possible start. Please make a donation to our March for Babies fundraiser today. \nIt’s fast\, easy and secure from our fundraising page  with many options to pay. \nThank you for making a difference!
URL:https://lbmoms.com/event/marchforbabies/
LOCATION:Molina Grand Park\, 277 N. Spring Street\, Los Angeles\, CA\, 90012\, United States
CATEGORIES:Events,Free Events,Motherhood Connection
ATTACH;FMTTYPE=image/png:https://lbmoms.com/wp-content/uploads/2025/05/MFBLA25_TheMotherhoodConnectionFlyerVertical-scaled.png
END:VEVENT
END:VCALENDAR