BEGIN:VCALENDAR
VERSION:2.0
PRODID:-//Long Beach Moms - ECPv6.15.20//NONSGML v1.0//EN
CALSCALE:GREGORIAN
METHOD:PUBLISH
X-ORIGINAL-URL:https://lbmoms.com
X-WR-CALDESC:Events for Long Beach Moms
REFRESH-INTERVAL;VALUE=DURATION:PT1H
X-Robots-Tag:noindex
X-PUBLISHED-TTL:PT1H
BEGIN:VTIMEZONE
TZID:America/Los_Angeles
BEGIN:DAYLIGHT
TZOFFSETFROM:-0800
TZOFFSETTO:-0700
TZNAME:PDT
DTSTART:20240310T100000
END:DAYLIGHT
BEGIN:STANDARD
TZOFFSETFROM:-0700
TZOFFSETTO:-0800
TZNAME:PST
DTSTART:20241103T090000
END:STANDARD
BEGIN:DAYLIGHT
TZOFFSETFROM:-0800
TZOFFSETTO:-0700
TZNAME:PDT
DTSTART:20250309T100000
END:DAYLIGHT
BEGIN:STANDARD
TZOFFSETFROM:-0700
TZOFFSETTO:-0800
TZNAME:PST
DTSTART:20251102T090000
END:STANDARD
BEGIN:DAYLIGHT
TZOFFSETFROM:-0800
TZOFFSETTO:-0700
TZNAME:PDT
DTSTART:20260308T100000
END:DAYLIGHT
BEGIN:STANDARD
TZOFFSETFROM:-0700
TZOFFSETTO:-0800
TZNAME:PST
DTSTART:20261101T090000
END:STANDARD
END:VTIMEZONE
BEGIN:VEVENT
DTSTART;TZID=America/Los_Angeles:20250928T130000
DTEND;TZID=America/Los_Angeles:20250928T170000
DTSTAMP:20260421T173848
CREATED:20250918T211425Z
LAST-MODIFIED:20250918T211425Z
UID:18113-1759064400-1759078800@lbmoms.com
SUMMARY:RuMBa Foundation Family Concert: Dan Brown's Wild Symphony!
DESCRIPTION:This free festival-style event will be filled with activities\, live music\, interactive booths\, and kid-friendly food. Children will enjoy playing with symphonic musical instruments at the “instrument petting zoo\,” crafting their own batons for “Conducting 101” with our assistant conductors. Enjoy arts and crafts\, lawn games\, and more! Children are encouraged to come in their favorite costume. \nAt 3PM\, the Terrace Theater will open for children and their families to take part in an interactive\, educational\, and playful musical performance by Maestro Eckart Preu. A Wild Symphony performance is an unforgettable family experience for all ages\, celebrating a magical blend of storytelling\, music\, and visual art. Written and composed by bestselling author Dan Brown (DaVinci Code\, Angels and Demons)\, this delightful 21-movement musical adventure comes alive with stunning projected images and charming poem readings from the beloved book. The narrator for this performance will be actor and vocal coach Jamieson Price\, who has worked with LBSO’s education outreach program for more than 20 years and also serves as the announcer at Cal State Long Beach commencement ceremonies.
URL:https://lbmoms.com/event/rumba-foundation-family-concert-dan-browns-wild-symphony/
LOCATION:300 E Ocean Blvd\, 300 E Ocean Blvd\, Long Beach\, CA\, 90802\, United States
CATEGORIES:Free Events
ATTACH;FMTTYPE=image/png:https://lbmoms.com/wp-content/uploads/2025/09/Newsletter-Event-Graphics-9.png
END:VEVENT
END:VCALENDAR