BEGIN:VCALENDAR
VERSION:2.0
PRODID:-//Long Beach Moms - ECPv6.15.20//NONSGML v1.0//EN
CALSCALE:GREGORIAN
METHOD:PUBLISH
X-WR-CALNAME:Long Beach Moms
X-ORIGINAL-URL:https://lbmoms.com
X-WR-CALDESC:Events for Long Beach Moms
REFRESH-INTERVAL;VALUE=DURATION:PT1H
X-Robots-Tag:noindex
X-PUBLISHED-TTL:PT1H
BEGIN:VTIMEZONE
TZID:America/Los_Angeles
BEGIN:DAYLIGHT
TZOFFSETFROM:-0800
TZOFFSETTO:-0700
TZNAME:PDT
DTSTART:20240310T100000
END:DAYLIGHT
BEGIN:STANDARD
TZOFFSETFROM:-0700
TZOFFSETTO:-0800
TZNAME:PST
DTSTART:20241103T090000
END:STANDARD
BEGIN:DAYLIGHT
TZOFFSETFROM:-0800
TZOFFSETTO:-0700
TZNAME:PDT
DTSTART:20250309T100000
END:DAYLIGHT
BEGIN:STANDARD
TZOFFSETFROM:-0700
TZOFFSETTO:-0800
TZNAME:PST
DTSTART:20251102T090000
END:STANDARD
BEGIN:DAYLIGHT
TZOFFSETFROM:-0800
TZOFFSETTO:-0700
TZNAME:PDT
DTSTART:20260308T100000
END:DAYLIGHT
BEGIN:STANDARD
TZOFFSETFROM:-0700
TZOFFSETTO:-0800
TZNAME:PST
DTSTART:20261101T090000
END:STANDARD
END:VTIMEZONE
BEGIN:VEVENT
DTSTART;TZID=America/Los_Angeles:20250828T170000
DTEND;TZID=America/Los_Angeles:20250828T210000
DTSTAMP:20260421T233143
CREATED:20250820T184606Z
LAST-MODIFIED:20250820T184606Z
UID:17744-1756400400-1756414800@lbmoms.com
SUMMARY:Thursday Night Market in Long Beach
DESCRIPTION:Join us Thursday\, August 28th from 5–9pm for an evening under the stars ✨ at 300 N Promenade (between 3rd & 4th Street)! \n🍔 Mouthwatering eats \n🛍️ One-of-a-kind local vendors \n🎶 Live music vibes \n👨‍👩‍👧‍👦 Family and furry friend approved \n🎉 FREE to attend – plus free parking right next door! \n  \nCome for the food\, stay for the fun. See you there! 💫 \nInterested in being a vendor? Apply here: https://www.weekendnightmarket.com/long-beach \nFollow us on IG @Weekend_Night_Market
URL:https://lbmoms.com/event/thursday-night-market-in-long-beach/
LOCATION:300 The Promenade N\, 300 The Promenade N\, Long Beach\, CA\, 90802\, United States
CATEGORIES:Free Events
ATTACH;FMTTYPE=image/jpeg:https://lbmoms.com/wp-content/uploads/2025/08/Night.jpeg
END:VEVENT
END:VCALENDAR