BEGIN:VCALENDAR
VERSION:2.0
PRODID:-//Long Beach Moms - ECPv6.15.20//NONSGML v1.0//EN
CALSCALE:GREGORIAN
METHOD:PUBLISH
X-WR-CALNAME:Long Beach Moms
X-ORIGINAL-URL:https://lbmoms.com
X-WR-CALDESC:Events for Long Beach Moms
REFRESH-INTERVAL;VALUE=DURATION:PT1H
X-Robots-Tag:noindex
X-PUBLISHED-TTL:PT1H
BEGIN:VTIMEZONE
TZID:America/Los_Angeles
BEGIN:DAYLIGHT
TZOFFSETFROM:-0800
TZOFFSETTO:-0700
TZNAME:PDT
DTSTART:20240310T100000
END:DAYLIGHT
BEGIN:STANDARD
TZOFFSETFROM:-0700
TZOFFSETTO:-0800
TZNAME:PST
DTSTART:20241103T090000
END:STANDARD
BEGIN:DAYLIGHT
TZOFFSETFROM:-0800
TZOFFSETTO:-0700
TZNAME:PDT
DTSTART:20250309T100000
END:DAYLIGHT
BEGIN:STANDARD
TZOFFSETFROM:-0700
TZOFFSETTO:-0800
TZNAME:PST
DTSTART:20251102T090000
END:STANDARD
BEGIN:DAYLIGHT
TZOFFSETFROM:-0800
TZOFFSETTO:-0700
TZNAME:PDT
DTSTART:20260308T100000
END:DAYLIGHT
BEGIN:STANDARD
TZOFFSETFROM:-0700
TZOFFSETTO:-0800
TZNAME:PST
DTSTART:20261101T090000
END:STANDARD
END:VTIMEZONE
BEGIN:VEVENT
DTSTART;TZID=America/Los_Angeles:20251122T100000
DTEND;TZID=America/Los_Angeles:20251122T110000
DTSTAMP:20260420T180538
CREATED:20251120T183154Z
LAST-MODIFIED:20251120T183154Z
UID:18638-1763805600-1763809200@lbmoms.com
SUMMARY:Rewriting the Script: Parenting Differently Than You Were Parented
DESCRIPTION:ONLINE EVENT! \nParenting differently than you were raised isn’t easy. This workshop helps you heal\, understand your triggers\, and rewrite your story. \n\n\n\nHosted by Rachael Schweitzer\, MA\, LMFT. If you’re trying to be a good parent but never had a clear example of what that looks like\, this workshop is for you. \nMaybe you feel like you’re making it up as you go\, trying to parent differently than how you were raised—but still find yourself snapping\, shutting down\, or feeling ashamed of your reactions. You might worry you’re repeating patterns from your own childhood\, even the ones you promised you’d never repeat. \nYou’re not alone\, and you’re not broken. \nMost parenting advice assumes you had a “good enough” childhood with safety\, emotional regulation\, and unconditional love. But if you grew up feeling like your needs were “too much\,” your feelings were inconvenient\, or love was conditional\, parenting can activate your whole nervous system\, not just your to-do list. Old scripts run in the background until you learn to see them. \nThis class is designed to help you: \n\nRecognize unconscious patterns from your past\nUnderstand why certain behaviors in your child feel so triggering\nUse nervous system–friendly tools to respond instead of react\nBuild a new parenting blueprint rooted in safety\, connection\, and emotional attunement\n\nYou don’t need a perfect childhood to be a grounded\, present parent. You need support\, language for what’s happening inside you\, and tools that honor your lived experience. \nJoin us to see your patterns clearly—not to blame yourself\, but to finally change the script.
URL:https://lbmoms.com/event/rewriting-the-script-parenting-differently-than-you-were-parented/
CATEGORIES:Events
ATTACH;FMTTYPE=image/jpeg:https://lbmoms.com/wp-content/uploads/2025/11/Parenting.jpeg
END:VEVENT
END:VCALENDAR