BEGIN:VCALENDAR
VERSION:2.0
PRODID:-//Long Beach Moms - ECPv6.15.20//NONSGML v1.0//EN
CALSCALE:GREGORIAN
METHOD:PUBLISH
X-ORIGINAL-URL:https://lbmoms.com
X-WR-CALDESC:Events for Long Beach Moms
REFRESH-INTERVAL;VALUE=DURATION:PT1H
X-Robots-Tag:noindex
X-PUBLISHED-TTL:PT1H
BEGIN:VTIMEZONE
TZID:America/Los_Angeles
BEGIN:DAYLIGHT
TZOFFSETFROM:-0800
TZOFFSETTO:-0700
TZNAME:PDT
DTSTART:20240310T100000
END:DAYLIGHT
BEGIN:STANDARD
TZOFFSETFROM:-0700
TZOFFSETTO:-0800
TZNAME:PST
DTSTART:20241103T090000
END:STANDARD
BEGIN:DAYLIGHT
TZOFFSETFROM:-0800
TZOFFSETTO:-0700
TZNAME:PDT
DTSTART:20250309T100000
END:DAYLIGHT
BEGIN:STANDARD
TZOFFSETFROM:-0700
TZOFFSETTO:-0800
TZNAME:PST
DTSTART:20251102T090000
END:STANDARD
BEGIN:DAYLIGHT
TZOFFSETFROM:-0800
TZOFFSETTO:-0700
TZNAME:PDT
DTSTART:20260308T100000
END:DAYLIGHT
BEGIN:STANDARD
TZOFFSETFROM:-0700
TZOFFSETTO:-0800
TZNAME:PST
DTSTART:20261101T090000
END:STANDARD
END:VTIMEZONE
BEGIN:VEVENT
DTSTART;TZID=America/Los_Angeles:20251026T123000
DTEND;TZID=America/Los_Angeles:20251026T160000
DTSTAMP:20260422T075241
CREATED:20251023T164549Z
LAST-MODIFIED:20251023T164549Z
UID:18381-1761481800-1761494400@lbmoms.com
SUMMARY:Haute Dog Howl'oween Parade & Pet Fair
DESCRIPTION:The annual HAUTE DOG HOWL’OWEEN PARADE will take place Sunday\, October 26\, at 2:30 PM at the beachfront grassy park and path in front of former Belmont Pool\, 4000 E. Olympic Plaza\, 90803 (just west of Rosie’s Dog Beach). Free to spectate. \nBefore and after the parade\, check out the pet adoption and vendor fair from 12:30 to 4:00 PM. Food will be available for purchase from food trucks. \nBring your own folding chair for the second row for free\, or rent a front-row seat IN THE PARK for just $5/cash on-site\, starting at about 1 PM.
URL:https://lbmoms.com/event/haute-dog-howloween-parade-pet-fair/
LOCATION:4000 E Olympic Plaza\, 4000 E Olympic Plaza\, Long Beach\, CA\, 90803\, United States
ATTACH;FMTTYPE=image/jpeg:https://lbmoms.com/wp-content/uploads/2025/10/Pet.jpeg
END:VEVENT
END:VCALENDAR