BEGIN:VCALENDAR
VERSION:2.0
PRODID:-//Long Beach Moms - ECPv6.15.20//NONSGML v1.0//EN
CALSCALE:GREGORIAN
METHOD:PUBLISH
X-WR-CALNAME:Long Beach Moms
X-ORIGINAL-URL:https://lbmoms.com
X-WR-CALDESC:Events for Long Beach Moms
REFRESH-INTERVAL;VALUE=DURATION:PT1H
X-Robots-Tag:noindex
X-PUBLISHED-TTL:PT1H
BEGIN:VTIMEZONE
TZID:America/Los_Angeles
BEGIN:DAYLIGHT
TZOFFSETFROM:-0800
TZOFFSETTO:-0700
TZNAME:PDT
DTSTART:20240310T100000
END:DAYLIGHT
BEGIN:STANDARD
TZOFFSETFROM:-0700
TZOFFSETTO:-0800
TZNAME:PST
DTSTART:20241103T090000
END:STANDARD
BEGIN:DAYLIGHT
TZOFFSETFROM:-0800
TZOFFSETTO:-0700
TZNAME:PDT
DTSTART:20250309T100000
END:DAYLIGHT
BEGIN:STANDARD
TZOFFSETFROM:-0700
TZOFFSETTO:-0800
TZNAME:PST
DTSTART:20251102T090000
END:STANDARD
BEGIN:DAYLIGHT
TZOFFSETFROM:-0800
TZOFFSETTO:-0700
TZNAME:PDT
DTSTART:20260308T100000
END:DAYLIGHT
BEGIN:STANDARD
TZOFFSETFROM:-0700
TZOFFSETTO:-0800
TZNAME:PST
DTSTART:20261101T090000
END:STANDARD
END:VTIMEZONE
BEGIN:VEVENT
DTSTART;TZID=America/Los_Angeles:20251120T170000
DTEND;TZID=America/Los_Angeles:20251120T200000
DTSTAMP:20260421T013135
CREATED:20251113T185954Z
LAST-MODIFIED:20251113T185954Z
UID:18560-1763658000-1763668800@lbmoms.com
SUMMARY:Tree Lighting and Santa Arrival at 2ND & PCH
DESCRIPTION:Join us for an enchanting evening at 2ND & PCH to kick off the holiday season with our annual Tree Lighting and Santa Arrival! Feel the magic by the Marina as we light up the night together. Bring your family and friends to witness the grand moment as our magnificent tree comes to life in all its holiday splendor. \nAnd\, yes—Santa Claus\, Mrs. Claus\, and friends are coming to town! Watch as Santa arrives in style with the Toy Soldiers\, bringing joy and cheer to all. It’s a must-see event for the whole family! \nThe first RSVP’d guests to check in at the 2ND & PCH booth between 3:00 pm – 5:00 pm will receive a complimentary light stick to help light the tree! Enjoy a variety of holiday festivities\, including a craft station\, photo booth\, character meet-and-greet\, airbrush tattoos\, and balloon art\, all running until 9 pm. \nFestivities kick off at 5 PM\, with Santa’s arrival at 6:15 PM and the Tree Lighting set for approximately 6:30 PM followed by fireworks! Enjoy vendors and activities on Seaport Way with a curated Holiday Market hosted by 714 Market. \nSchedule of Festivities:\n3:00 pm – Light wand pick up opens (RSVP required at first come first served basis). Enjoy a curated market by 714 Market.\nActivity and giveaways by the Memorial Care team.\n5:00 pm – Entertainment starts\, building up to Santa and Friends’ grand arrival\n6:00 pm – Santa’s Arrival headlined by SZN4 from the hit show Building the Band \nPlease note: This event is outdoors and weather-permitting.
URL:https://lbmoms.com/event/tree-lighting-and-santa-arrival-at-2nd-pch/
LOCATION:6400 Pacific Coast Hwy\, 6400 Pacific Coast Hwy\, Long Beach\, CA\, 90803\, United States
ATTACH;FMTTYPE=image/png:https://lbmoms.com/wp-content/uploads/2025/11/Newsletter-Event-Graphics-16.png
END:VEVENT
END:VCALENDAR