BEGIN:VCALENDAR
VERSION:2.0
PRODID:-//Long Beach Moms - ECPv6.15.20//NONSGML v1.0//EN
CALSCALE:GREGORIAN
METHOD:PUBLISH
X-WR-CALNAME:Long Beach Moms
X-ORIGINAL-URL:https://lbmoms.com
X-WR-CALDESC:Events for Long Beach Moms
REFRESH-INTERVAL;VALUE=DURATION:PT1H
X-Robots-Tag:noindex
X-PUBLISHED-TTL:PT1H
BEGIN:VTIMEZONE
TZID:America/Los_Angeles
BEGIN:DAYLIGHT
TZOFFSETFROM:-0800
TZOFFSETTO:-0700
TZNAME:PDT
DTSTART:20240310T100000
END:DAYLIGHT
BEGIN:STANDARD
TZOFFSETFROM:-0700
TZOFFSETTO:-0800
TZNAME:PST
DTSTART:20241103T090000
END:STANDARD
BEGIN:DAYLIGHT
TZOFFSETFROM:-0800
TZOFFSETTO:-0700
TZNAME:PDT
DTSTART:20250309T100000
END:DAYLIGHT
BEGIN:STANDARD
TZOFFSETFROM:-0700
TZOFFSETTO:-0800
TZNAME:PST
DTSTART:20251102T090000
END:STANDARD
BEGIN:DAYLIGHT
TZOFFSETFROM:-0800
TZOFFSETTO:-0700
TZNAME:PDT
DTSTART:20260308T100000
END:DAYLIGHT
BEGIN:STANDARD
TZOFFSETFROM:-0700
TZOFFSETTO:-0800
TZNAME:PST
DTSTART:20261101T090000
END:STANDARD
END:VTIMEZONE
BEGIN:VEVENT
DTSTART;TZID=America/Los_Angeles:20250719T100000
DTEND;TZID=America/Los_Angeles:20250719T140000
DTSTAMP:20260421T160635
CREATED:20250717T185746Z
LAST-MODIFIED:20250717T185746Z
UID:17241-1752919200-1752933600@lbmoms.com
SUMMARY:Skate Is Love: Summer Jam 2025
DESCRIPTION:Roxanne’s Celebrates 15 Years with “Skate Is Love: Summer Jam 2025” — A Free All-Ages Block Party in Long Beach \nIn honor of 15 years in California Heights\, Roxanne’s is throwing a full-day celebration that brings together skaters\, families\, artists\, and neighbors for one big day of fun. Skate Is Love: Summer Jam 2025 is a free\, all-ages community event happening Saturday\, July 19 from 10AM to 10PM\, packed with live music\, creative workshops\, and a pop-up skatepark right in the heart of Long Beach. \nThis isn’t just another summer event — it’s a tribute to the community that helped shape Roxanne’s. The day starts with kids’ skate lessons (ages 2+) from 10AM to 2PM\, then rolls into open skate sessions\, games\, music\, art\, and more. \nHighlights include:\n– Skateboarding lessons and open skate area (all levels)\n– Custom T-shirt printing\, painting stations\, and film/photography workshops\n– Live music and DJ sets featuring DJ Nuge and guest bands\n– Pool tournament (18+) with prizes\n– Raffle giveaways from local brands and partners \nThis event is free to attend\, with a few activities requiring RSVP through Eventbrite. Whether you’re a first-time visitor or you’ve been rocking with Roxanne’s since day one\, this is your day to show up and celebrate what makes Cal Heights so special. \nSupported by: Elated Youth\, Hours Is Yours\, Celsius Live Fit\, Happy Hour Skateboards\, and the Central American Heritage Association.
URL:https://lbmoms.com/event/skate-is-love-summer-jam-2025/
LOCATION:Roxanne’s\, 1115 E Wardlow Rd\, Long Beach\, CA\, 90807\, United States
CATEGORIES:Free Events
ATTACH;FMTTYPE=image/jpeg:https://lbmoms.com/wp-content/uploads/2025/07/skate.jpg
END:VEVENT
END:VCALENDAR