BEGIN:VCALENDAR
VERSION:2.0
PRODID:-//Long Beach Moms - ECPv6.15.20//NONSGML v1.0//EN
CALSCALE:GREGORIAN
METHOD:PUBLISH
X-WR-CALNAME:Long Beach Moms
X-ORIGINAL-URL:https://lbmoms.com
X-WR-CALDESC:Events for Long Beach Moms
REFRESH-INTERVAL;VALUE=DURATION:PT1H
X-Robots-Tag:noindex
X-PUBLISHED-TTL:PT1H
BEGIN:VTIMEZONE
TZID:America/Los_Angeles
BEGIN:DAYLIGHT
TZOFFSETFROM:-0800
TZOFFSETTO:-0700
TZNAME:PDT
DTSTART:20240310T100000
END:DAYLIGHT
BEGIN:STANDARD
TZOFFSETFROM:-0700
TZOFFSETTO:-0800
TZNAME:PST
DTSTART:20241103T090000
END:STANDARD
BEGIN:DAYLIGHT
TZOFFSETFROM:-0800
TZOFFSETTO:-0700
TZNAME:PDT
DTSTART:20250309T100000
END:DAYLIGHT
BEGIN:STANDARD
TZOFFSETFROM:-0700
TZOFFSETTO:-0800
TZNAME:PST
DTSTART:20251102T090000
END:STANDARD
BEGIN:DAYLIGHT
TZOFFSETFROM:-0800
TZOFFSETTO:-0700
TZNAME:PDT
DTSTART:20260308T100000
END:DAYLIGHT
BEGIN:STANDARD
TZOFFSETFROM:-0700
TZOFFSETTO:-0800
TZNAME:PST
DTSTART:20261101T090000
END:STANDARD
END:VTIMEZONE
BEGIN:VEVENT
DTSTART;TZID=America/Los_Angeles:20250620T190000
DTEND;TZID=America/Los_Angeles:20250620T213000
DTSTAMP:20260421T140402
CREATED:20250619T205927Z
LAST-MODIFIED:20250619T205927Z
UID:16868-1750446000-1750455000@lbmoms.com
SUMMARY:Shakespeare by the Sea: Julius Caesar
DESCRIPTION:Shakespeare by the Sea will present Shakespeare’s Julius Caesar in a production adapted and directed by Stephanie Coltrin. \nPerformances will be held at the Band Shell at Recreation Park\, which offers ample bench seating and a grass lawn for picnics. Admission is free\, no tickets required. \nLoyalties are tested in Shakespeare’s exploration of the definition of honor\, the agony of decision and the cost of crossing to the point of no return. \nA Southern California premiere\, this production of Julius Caesar is in partnership with Play On Shakespeare\, a non-profit company dedicated to promoting and creating contemporary modern English translations of Shakespeare’s plays. The SBTS production will present an adaptation of Shishir Kurup’s modern-verse translation of the play that breathes new life into the Bard’s words—offering clarity without compromise. \nDates: \n\nJune 20\, 7 PM\nJune 21\, 7 PM
URL:https://lbmoms.com/event/shakespeare-by-the-sea-julius-caesar/
LOCATION:Recreation Park Band Shell\, 701-939 Federation Dr.\, Long Beach\, CA\, 90804\, United States
CATEGORIES:Free Events
ATTACH;FMTTYPE=image/jpeg:https://lbmoms.com/wp-content/uploads/2025/06/Ceasar.jpg
END:VEVENT
END:VCALENDAR