BEGIN:VCALENDAR
VERSION:2.0
PRODID:-//Long Beach Moms - ECPv6.15.20//NONSGML v1.0//EN
CALSCALE:GREGORIAN
METHOD:PUBLISH
X-WR-CALNAME:Long Beach Moms
X-ORIGINAL-URL:https://lbmoms.com
X-WR-CALDESC:Events for Long Beach Moms
REFRESH-INTERVAL;VALUE=DURATION:PT1H
X-Robots-Tag:noindex
X-PUBLISHED-TTL:PT1H
BEGIN:VTIMEZONE
TZID:America/Los_Angeles
BEGIN:DAYLIGHT
TZOFFSETFROM:-0800
TZOFFSETTO:-0700
TZNAME:PDT
DTSTART:20230312T100000
END:DAYLIGHT
BEGIN:STANDARD
TZOFFSETFROM:-0700
TZOFFSETTO:-0800
TZNAME:PST
DTSTART:20231105T090000
END:STANDARD
BEGIN:DAYLIGHT
TZOFFSETFROM:-0800
TZOFFSETTO:-0700
TZNAME:PDT
DTSTART:20240310T100000
END:DAYLIGHT
BEGIN:STANDARD
TZOFFSETFROM:-0700
TZOFFSETTO:-0800
TZNAME:PST
DTSTART:20241103T090000
END:STANDARD
BEGIN:DAYLIGHT
TZOFFSETFROM:-0800
TZOFFSETTO:-0700
TZNAME:PDT
DTSTART:20250309T100000
END:DAYLIGHT
BEGIN:STANDARD
TZOFFSETFROM:-0700
TZOFFSETTO:-0800
TZNAME:PST
DTSTART:20251102T090000
END:STANDARD
END:VTIMEZONE
BEGIN:VEVENT
DTSTART;TZID=America/Los_Angeles:20241122T101000
DTEND;TZID=America/Los_Angeles:20241122T101000
DTSTAMP:20260424T085310
CREATED:20241121T053718Z
LAST-MODIFIED:20241121T053718Z
UID:15279-1732270200-1732270200@lbmoms.com
SUMMARY:DINOvember Toddler Storytime @ Harte
DESCRIPTION:Happy DINOvember! Stomp on over and join Miss Kaitlin for RAWR-some books\, dino-mite songs\, scarves\, bubbles\, and tons of prehistoric fun! This triassic-ly high-energy storytime is perfect for roaring toddlers to engage in early literacy-building behaviors and get T-rex-cited for preschool. Stay-and-play trails after Storytime for about 20 minutes. No registration rex-quired! \n 
URL:https://lbmoms.com/event/dinovember-toddler-storytime-harte/
LOCATION:Harte Neighborhood Library\, 1595 W. Willow\, Long Beach\, CA\, United States
CATEGORIES:City of Long Beach,Events,Free Events,Long Beach Moms,Playdate
ATTACH;FMTTYPE=image/png:https://lbmoms.com/wp-content/uploads/2024/11/Toddler-Time-5.png
END:VEVENT
END:VCALENDAR