BEGIN:VCALENDAR
VERSION:2.0
PRODID:-//Long Beach Moms - ECPv6.15.20//NONSGML v1.0//EN
CALSCALE:GREGORIAN
METHOD:PUBLISH
X-ORIGINAL-URL:https://lbmoms.com
X-WR-CALDESC:Events for Long Beach Moms
REFRESH-INTERVAL;VALUE=DURATION:PT1H
X-Robots-Tag:noindex
X-PUBLISHED-TTL:PT1H
BEGIN:VTIMEZONE
TZID:America/Los_Angeles
BEGIN:DAYLIGHT
TZOFFSETFROM:-0800
TZOFFSETTO:-0700
TZNAME:PDT
DTSTART:20240310T100000
END:DAYLIGHT
BEGIN:STANDARD
TZOFFSETFROM:-0700
TZOFFSETTO:-0800
TZNAME:PST
DTSTART:20241103T090000
END:STANDARD
BEGIN:DAYLIGHT
TZOFFSETFROM:-0800
TZOFFSETTO:-0700
TZNAME:PDT
DTSTART:20250309T100000
END:DAYLIGHT
BEGIN:STANDARD
TZOFFSETFROM:-0700
TZOFFSETTO:-0800
TZNAME:PST
DTSTART:20251102T090000
END:STANDARD
BEGIN:DAYLIGHT
TZOFFSETFROM:-0800
TZOFFSETTO:-0700
TZNAME:PDT
DTSTART:20260308T100000
END:DAYLIGHT
BEGIN:STANDARD
TZOFFSETFROM:-0700
TZOFFSETTO:-0800
TZNAME:PST
DTSTART:20261101T090000
END:STANDARD
END:VTIMEZONE
BEGIN:VEVENT
DTSTART;TZID=America/Los_Angeles:20251203T170000
DTEND;TZID=America/Los_Angeles:20251203T200000
DTSTAMP:20260420T234129
CREATED:20251126T060227Z
LAST-MODIFIED:20251126T060227Z
UID:18713-1764781200-1764792000@lbmoms.com
SUMMARY:Holiday Tree Lighting
DESCRIPTION:Celebrate the holiday season in Downtown Long Beach at the 11th annual Holiday Tree Lighting event! \nFree tickets are available now–RSVP required for entry. \nWith a 67-foot tall Christmas tree and more than 500\,000 lights illuminating the Terrace Plaza\, this dazzling ceremony kicks off the holiday season with festivities for the whole family. \nThis free event will feature pictures with Santa\, live music and performances\, and a finale with fireworks. Take selfies with the lights and decorations on the plaza\, and enjoy the festive atmosphere to kick off the holiday season.
URL:https://lbmoms.com/event/holiday-tree-lighting/
LOCATION:300 E Ocean Blvd\, 300 E Ocean Blvd\, Long Beach\, CA\, 90802\, United States
CATEGORIES:Free Events
ATTACH;FMTTYPE=image/png:https://lbmoms.com/wp-content/uploads/2025/11/Newsletter-Event-Graphics-18.png
END:VEVENT
END:VCALENDAR