BEGIN:VCALENDAR
VERSION:2.0
PRODID:-//Long Beach Moms - ECPv6.15.20//NONSGML v1.0//EN
CALSCALE:GREGORIAN
METHOD:PUBLISH
X-WR-CALNAME:Long Beach Moms
X-ORIGINAL-URL:https://lbmoms.com
X-WR-CALDESC:Events for Long Beach Moms
REFRESH-INTERVAL;VALUE=DURATION:PT1H
X-Robots-Tag:noindex
X-PUBLISHED-TTL:PT1H
BEGIN:VTIMEZONE
TZID:America/Los_Angeles
BEGIN:DAYLIGHT
TZOFFSETFROM:-0800
TZOFFSETTO:-0700
TZNAME:PDT
DTSTART:20240310T100000
END:DAYLIGHT
BEGIN:STANDARD
TZOFFSETFROM:-0700
TZOFFSETTO:-0800
TZNAME:PST
DTSTART:20241103T090000
END:STANDARD
BEGIN:DAYLIGHT
TZOFFSETFROM:-0800
TZOFFSETTO:-0700
TZNAME:PDT
DTSTART:20250309T100000
END:DAYLIGHT
BEGIN:STANDARD
TZOFFSETFROM:-0700
TZOFFSETTO:-0800
TZNAME:PST
DTSTART:20251102T090000
END:STANDARD
BEGIN:DAYLIGHT
TZOFFSETFROM:-0800
TZOFFSETTO:-0700
TZNAME:PDT
DTSTART:20260308T100000
END:DAYLIGHT
BEGIN:STANDARD
TZOFFSETFROM:-0700
TZOFFSETTO:-0800
TZNAME:PST
DTSTART:20261101T090000
END:STANDARD
END:VTIMEZONE
BEGIN:VEVENT
DTSTART;TZID=America/Los_Angeles:20251207T160000
DTEND;TZID=America/Los_Angeles:20251207T200000
DTSTAMP:20260421T085050
CREATED:20251204T050051Z
LAST-MODIFIED:20251204T050051Z
UID:18769-1765123200-1765137600@lbmoms.com
SUMMARY:Winter in Willmore A Holiday Market
DESCRIPTION:Get ready to shop ’til you drop and soak up the holiday vibes at Winter in Willmore A Holiday Market!\n\n\n\nJoin us for an evening of holiday cheer at the historic Bembridge House! \nEnjoy ❄️ falling snow\, 🎅 pictures with Santa\, 🎶 live music from a local DJ\, 🍴2 delicious food trucks\, 🛍️ 13 local market vendors\, 4 holiday crafts\, and tours of the beautifully decorated Bembridge House! Plus — come say hello to Queen Victoria & Prince Albert! \nCome make memories\, support local vendors\, and kick off the holiday season with your neighbors in Willmore!
URL:https://lbmoms.com/event/winter-in-willmore-a-holiday-market/
LOCATION:953 North Park Circle\, 953 North Park Circle\, Long Beach\, CA\, 90813\, United States
CATEGORIES:Events
ATTACH;FMTTYPE=image/jpeg:https://lbmoms.com/wp-content/uploads/2025/12/Winter.jpeg
END:VEVENT
END:VCALENDAR